BEGIN:VCALENDAR
VERSION:2.0
PRODID:-//hacksw/handcal//NONSGML v1.0//EN
CALSCALE:GREGORIAN
BEGIN:VEVENT
LOCATION:Girona
DESCRIPTION:
DTSTART:20250319T080000Z
DTEND:20250319T080000Z
SUMMARY:SAC. Projecció de la pel·lícula Blade Runner
URL;VALUE=URI:https://arquitectes.cat/ca/content/sac-projecci%C3%B3-de-la-pel%C2%B7l%C3%ADcula-blade-runner
DTSTAMP:20260422T122421Z
UID:69e8a1d5893ab
END:VEVENT
END:VCALENDAR