BEGIN:VCALENDAR
VERSION:2.0
PRODID:-//hacksw/handcal//NONSGML v1.0//EN
CALSCALE:GREGORIAN
BEGIN:VEVENT
LOCATION:Girona
DESCRIPTION:
DTSTART:20250403T083000Z
DTEND:20250403T083000Z
SUMMARY:Seminari: Ecosistemes en pugna: quin model de ciutat necessitem?
URL;VALUE=URI:https://arquitectes.cat/ca/content/seminari-ecosistemes-en-pugna-quin-model-de-ciutat-necessitem
DTSTAMP:20260425T201501Z
UID:69ed04a5ed3d8
END:VEVENT
END:VCALENDAR