BEGIN:VCALENDAR
VERSION:2.0
PRODID:-//hacksw/handcal//NONSGML v1.0//EN
CALSCALE:GREGORIAN
BEGIN:VEVENT
LOCATION:Manresa
DESCRIPTION:
DTSTART:20250403T073000Z
DTEND:20250403T073000Z
SUMMARY:Indústries creatives: L'art de connectar. Guanyar visibilitat i crear comunitat a les xarxes socials.
URL;VALUE=URI:https://arquitectes.cat/ca/content/ind%C3%BAstries-creatives-lart-de-connectar-guanyar-visibilitat-i-crear-comunitat-les-xarxes
DTSTAMP:20260419T223931Z
UID:69e53d8379949
END:VEVENT
END:VCALENDAR