BEGIN:VCALENDAR
VERSION:2.0
PRODID:-//hacksw/handcal//NONSGML v1.0//EN
CALSCALE:GREGORIAN
BEGIN:VEVENT
LOCATION:Barcelona
DESCRIPTION:
DTSTART:20250326T163000Z
DTEND:20250326T163000Z
SUMMARY:"Habitatge social\, problema social"\, 1a sessió del cicle Arquitectura catalana internacional 
URL;VALUE=URI:https://arquitectes.cat/ca/content/habitatge-social-problema-social-1a-sessi%C3%B3-del-cicle-arquitectura-catalana-internacional
DTSTAMP:20260419T195558Z
UID:69e5172e973a5
END:VEVENT
END:VCALENDAR