BEGIN:VCALENDAR
VERSION:2.0
PRODID:-//hacksw/handcal//NONSGML v1.0//EN
CALSCALE:GREGORIAN
BEGIN:VEVENT
LOCATION:Barcelona
DESCRIPTION:
DTSTART:20250314T090000Z
DTEND:20250314T090000Z
SUMMARY:Conferència: 'Projectes per la salut' | Lluís Morán | moranarq 'Nou projecte de consultes externes\, Vall d'Hebron | Diego Nakamatsu - Antonio Recio - Lluís Morán'
URL;VALUE=URI:https://arquitectes.cat/ca/content/confer%C3%A8ncia-projectes-la-salut-llu%C3%ADs-mor%C3%A1n-moranarq-nou-projecte-de-consultes-externes-vall
DTSTAMP:20260420T045317Z
UID:69e5951ddf1e4
END:VEVENT
END:VCALENDAR