BEGIN:VCALENDAR
VERSION:2.0
PRODID:-//hacksw/handcal//NONSGML v1.0//EN
CALSCALE:GREGORIAN
BEGIN:VEVENT
LOCATION:Barcelona
DESCRIPTION:
DTSTART:20250307T090000Z
DTEND:20250307T090000Z
SUMMARY:Conferència d’Archipelago Architects | Màster Arquitectura Hospitalària Nou Clínic
URL;VALUE=URI:https://arquitectes.cat/ca/content/confer%C3%A8ncia-d%E2%80%99archipelago-architects-m%C3%A0ster-arquitectura-hospital%C3%A0ria-nou-cl%C3%ADnic
DTSTAMP:20260422T124422Z
UID:69e8a686bf095
END:VEVENT
END:VCALENDAR