BEGIN:VCALENDAR
VERSION:2.0
PRODID:-//hacksw/handcal//NONSGML v1.0//EN
CALSCALE:GREGORIAN
BEGIN:VEVENT
LOCATION:Barcelona
DESCRIPTION:
DTSTART:20250328T090000Z
DTEND:20250328T090000Z
SUMMARY:IQS Cambridge Talks: “L’Efecte Brussel·les i la Política Climàtica Global”. Michael Pollitt
URL;VALUE=URI:https://arquitectes.cat/ca/content/iqs-cambridge-talks-%E2%80%9Cl%E2%80%99efecte-brussel%C2%B7les-i-la-pol%C3%ADtica-clim%C3%A0tica-global%E2%80%9D-michael-pollitt
DTSTAMP:20260419T212110Z
UID:69e52b263be37
END:VEVENT
END:VCALENDAR