BEGIN:VCALENDAR
VERSION:2.0
PRODID:-//hacksw/handcal//NONSGML v1.0//EN
CALSCALE:GREGORIAN
BEGIN:VEVENT
LOCATION:Barcelona
DESCRIPTION:
DTSTART:20250225T170000Z
DTEND:20250225T170000Z
SUMMARY:Radiografia de la promoció pública catalana en el marc de l'exposició "Housing Standardisation"
URL;VALUE=URI:https://arquitectes.cat/ca/content/radiografia-de-la-promoci%C3%B3-p%C3%BAblica-catalana-en-el-marc-de-lexposici%C3%B3-housing-standardisation
DTSTAMP:20260419T223728Z
UID:69e53d088c44a
END:VEVENT
END:VCALENDAR