BEGIN:VCALENDAR
VERSION:2.0
PRODID:-//hacksw/handcal//NONSGML v1.0//EN
CALSCALE:GREGORIAN
BEGIN:VEVENT
LOCATION:Barcelona
DESCRIPTION:
DTSTART:20250123T141500Z
DTEND:20250403T141500Z
SUMMARY:Vuelve el ciclo de conferencias 'Europa Europa'
URL;VALUE=URI:https://arquitectes.cat/ca/node/40990
DTSTAMP:20260419T171355Z
UID:69e4f13327416
END:VEVENT
END:VCALENDAR