BEGIN:VCALENDAR
VERSION:2.0
PRODID:-//hacksw/handcal//NONSGML v1.0//EN
CALSCALE:GREGORIAN
BEGIN:VEVENT
LOCATION:Barcelona
DESCRIPTION:
DTSTART:20250212T163000Z
DTEND:20250212T163000Z
SUMMARY:Granting Ceremony | Living Places - Simon Architecture Prize
URL;VALUE=URI:https://arquitectes.cat/ca/content/granting-ceremony-living-places-simon-architecture-prize
DTSTAMP:20260419T204654Z
UID:69e5231e0f233
END:VEVENT
END:VCALENDAR