BEGIN:VCALENDAR
VERSION:2.0
PRODID:-//hacksw/handcal//NONSGML v1.0//EN
CALSCALE:GREGORIAN
BEGIN:VEVENT
LOCATION:Barcelona
DESCRIPTION:
DTSTART:20250208T090000Z
DTEND:20250511T180000Z
SUMMARY:Exposició: I després de Le Corbusier? Michel Ragon
URL;VALUE=URI:https://arquitectes.cat/ca/content/exposici%C3%B3-i-despr%C3%A9s-de-le-corbusier-michel-ragon
DTSTAMP:20260419T193649Z
UID:69e512b1478f1
END:VEVENT
END:VCALENDAR