BEGIN:VCALENDAR
VERSION:2.0
PRODID:-//hacksw/handcal//NONSGML v1.0//EN
CALSCALE:GREGORIAN
BEGIN:VEVENT
LOCATION:Barcelona
DESCRIPTION:
DTSTART:20250206T170000Z
DTEND:20250206T170000Z
SUMMARY:3a sessió del cicle Europa Europa amb Fala
URL;VALUE=URI:https://arquitectes.cat/ca/content/3a-sessi%C3%B3-del-cicle-europa-europa-amb-fala
DTSTAMP:20260419T211602Z
UID:69e529f20b255
END:VEVENT
END:VCALENDAR