BEGIN:VCALENDAR
VERSION:2.0
PRODID:-//hacksw/handcal//NONSGML v1.0//EN
CALSCALE:GREGORIAN
BEGIN:VEVENT
LOCATION:Barcelona
DESCRIPTION:
DTSTART:20241212T133000Z
DTEND:20241216T183000Z
SUMMARY:Abiertas las inscripciones para el XLVII Cursillo - Coderch y la vanguardia catalana: del Grup R al Team 10
URL;VALUE=URI:https://arquitectes.cat/ca/node/40819
DTSTAMP:20260419T150629Z
UID:69e4d355e7625
END:VEVENT
END:VCALENDAR