BEGIN:VCALENDAR
VERSION:2.0
PRODID:-//hacksw/handcal//NONSGML v1.0//EN
CALSCALE:GREGORIAN
BEGIN:VEVENT
LOCATION:Barcelona
DESCRIPTION:
DTSTART:20241118T140000Z
DTEND:20241118T140000Z
SUMMARY:Biblioteques i arquitectura a Barcelona
URL;VALUE=URI:https://arquitectes.cat/ca/content/biblioteques-i-arquitectura-barcelona
DTSTAMP:20260419T211550Z
UID:69e529e67d4ff
END:VEVENT
END:VCALENDAR