BEGIN:VCALENDAR
VERSION:2.0
PRODID:-//hacksw/handcal//NONSGML v1.0//EN
CALSCALE:GREGORIAN
BEGIN:VEVENT
LOCATION:Barcelona
DESCRIPTION:
DTSTART:20241115T160000Z
DTEND:20241115T160000Z
SUMMARY:"Momentos de quiebra: Innovación e industrialización" | Presentació de la Revista AxA 02
URL;VALUE=URI:https://arquitectes.cat/ca/content/momentos-de-quiebra-innovaci%C3%B3n-e-industrializaci%C3%B3n-presentaci%C3%B3-de-la-revista-axa-02
DTSTAMP:20260419T143344Z
UID:69e4cba835002
END:VEVENT
END:VCALENDAR