BEGIN:VCALENDAR
VERSION:2.0
PRODID:-//hacksw/handcal//NONSGML v1.0//EN
CALSCALE:GREGORIAN
BEGIN:VEVENT
LOCATION:Olot
DESCRIPTION:
DTSTART:20241107T170000Z
DTEND:20241107T170000Z
SUMMARY:Fumarola de Lluèrnia. Deu anys fent fanalets\, exercicis d'arquitectura per a infants
URL;VALUE=URI:https://arquitectes.cat/ca/content/fumarola-de-llu%C3%A8rnia-deu-anys-fent-fanalets-exercicis-darquitectura-infants
DTSTAMP:20260420T033742Z
UID:69e58366b0dba
END:VEVENT
END:VCALENDAR