BEGIN:VCALENDAR
VERSION:2.0
PRODID:-//hacksw/handcal//NONSGML v1.0//EN
CALSCALE:GREGORIAN
BEGIN:VEVENT
LOCATION:Terrassa
DESCRIPTION:
DTSTART:20241106T100000Z
DTEND:20241106T100000Z
SUMMARY:Visita guiada a l’exposició “El jardí invisible de Gaudí”
URL;VALUE=URI:https://arquitectes.cat/ca/content/visita-guiada-l%E2%80%99exposici%C3%B3-%E2%80%9Cel-jard%C3%AD-invisible-de-gaud%C3%AD%E2%80%9D
DTSTAMP:20260420T065653Z
UID:69e5b21552843
END:VEVENT
END:VCALENDAR