BEGIN:VCALENDAR
VERSION:2.0
PRODID:-//hacksw/handcal//NONSGML v1.0//EN
CALSCALE:GREGORIAN
BEGIN:VEVENT
LOCATION:Barcelona
DESCRIPTION:
DTSTART:20241115T163000Z
DTEND:20241115T163000Z
SUMMARY:Itinerari: Santa Caterina\, de convent a mercat
URL;VALUE=URI:https://arquitectes.cat/ca/content/itinerari-santa-caterina-de-convent-mercat
DTSTAMP:20260419T181508Z
UID:69e4ff8c11d87
END:VEVENT
END:VCALENDAR