BEGIN:VCALENDAR
VERSION:2.0
PRODID:-//hacksw/handcal//NONSGML v1.0//EN
CALSCALE:GREGORIAN
BEGIN:VEVENT
LOCATION:Barcelona
DESCRIPTION:
DTSTART:20241118T080000Z
DTEND:20241118T080000Z
SUMMARY:Cicle Next Generation: Visita a 31 habitatges socials a Torre Baró
URL;VALUE=URI:https://arquitectes.cat/ca/content/cicle-next-generation-visita-31-habitatges-socials-torre-bar%C3%B3
DTSTAMP:20260419T183135Z
UID:69e503673cb47
END:VEVENT
END:VCALENDAR