BEGIN:VCALENDAR
VERSION:2.0
PRODID:-//hacksw/handcal//NONSGML v1.0//EN
CALSCALE:GREGORIAN
BEGIN:VEVENT
LOCATION:Barcelona
DESCRIPTION:
DTSTART:20241116T080000Z
DTEND:20241116T080000Z
SUMMARY:Ruta de l’Eix Besòs
URL;VALUE=URI:https://arquitectes.cat/ca/content/ruta-de-l%E2%80%99eix-bes%C3%B2s
DTSTAMP:20260420T002604Z
UID:69e5567c62079
END:VEVENT
END:VCALENDAR