BEGIN:VCALENDAR
VERSION:2.0
PRODID:-//hacksw/handcal//NONSGML v1.0//EN
CALSCALE:GREGORIAN
BEGIN:VEVENT
LOCATION:
DESCRIPTION:
DTSTART:20241018T080000Z
DTEND:20241020T180000Z
SUMMARY:Terracotta Biennal
URL;VALUE=URI:https://arquitectes.cat/ca/content/terracotta-biennal-0
DTSTAMP:20260420T053057Z
UID:69e59df1b795e
END:VEVENT
END:VCALENDAR