BEGIN:VCALENDAR
VERSION:2.0
PRODID:-//hacksw/handcal//NONSGML v1.0//EN
CALSCALE:GREGORIAN
BEGIN:VEVENT
LOCATION:Barcelona
DESCRIPTION:
DTSTART:20241030T170000Z
DTEND:20241030T170000Z
SUMMARY:2a sessió del cicle 'Coderch a 3 bandes' amb 'L'arquitectura de Coderch com a referent'
URL;VALUE=URI:https://arquitectes.cat/ca/content/2a-sessi%C3%B3-del-cicle-coderch-3-bandes-amb-larquitectura-de-coderch-com-referent
DTSTAMP:20260419T182955Z
UID:69e503033719c
END:VEVENT
END:VCALENDAR