BEGIN:VCALENDAR
VERSION:2.0
PRODID:-//hacksw/handcal//NONSGML v1.0//EN
CALSCALE:GREGORIAN
BEGIN:VEVENT
LOCATION:Olot
DESCRIPTION:
DTSTART:20240921T080000Z
DTEND:20240921T080000Z
SUMMARY:#PremisArqGi 2024. Visita a les obres d’Olot
URL;VALUE=URI:https://arquitectes.cat/ca/content/premisarqgi-2024-visita-les-obres-d%E2%80%99olot
DTSTAMP:20260420T034147Z
UID:69e5845b44a38
END:VEVENT
END:VCALENDAR