BEGIN:VCALENDAR
VERSION:2.0
PRODID:-//hacksw/handcal//NONSGML v1.0//EN
CALSCALE:GREGORIAN
BEGIN:VEVENT
LOCATION:Tortosa
DESCRIPTION:
DTSTART:20241004T090000Z
DTEND:20241006T180000Z
SUMMARY:A Cel Obert\, Festival d’intervencions efímeres de Tortosa
URL;VALUE=URI:https://arquitectes.cat/ca/content/cel-obert-festival-d%E2%80%99intervencions-ef%C3%ADmeres-de-tortosa
DTSTAMP:20260419T194230Z
UID:69e51406988c3
END:VEVENT
END:VCALENDAR