BEGIN:VCALENDAR
VERSION:2.0
PRODID:-//hacksw/handcal//NONSGML v1.0//EN
CALSCALE:GREGORIAN
BEGIN:VEVENT
LOCATION:Barcelona
DESCRIPTION:
DTSTART:20240919T170000Z
DTEND:20241025T170000Z
SUMMARY:Exposició del cicle Mirades: Arquitectura\, paisatge i aigua. Mostra fotogràfica
URL;VALUE=URI:https://arquitectes.cat/ca/content/exposici%C3%B3-del-cicle-mirades-arquitectura-paisatge-i-aigua-mostra-fotogr%C3%A0fica
DTSTAMP:20260420T034750Z
UID:69e585c6719a3
END:VEVENT
END:VCALENDAR