BEGIN:VCALENDAR
VERSION:2.0
PRODID:-//hacksw/handcal//NONSGML v1.0//EN
CALSCALE:GREGORIAN
BEGIN:VEVENT
LOCATION:Barcelona
DESCRIPTION:
DTSTART:20241004T080000Z
DTEND:20241004T080000Z
SUMMARY:Presentació de la nova Eina per al càlcul de la petjada de carboni
URL;VALUE=URI:https://arquitectes.cat/ca/content/presentaci%C3%B3-de-la-nova-eina-al-c%C3%A0lcul-de-la-petjada-de-carboni
DTSTAMP:20260422T205306Z
UID:69e91912512ad
END:VEVENT
END:VCALENDAR