BEGIN:VCALENDAR
VERSION:2.0
PRODID:-//hacksw/handcal//NONSGML v1.0//EN
CALSCALE:GREGORIAN
BEGIN:VEVENT
LOCATION:Barcelona
DESCRIPTION:
DTSTART:20240918T170000Z
DTEND:20240918T170000Z
SUMMARY:Presentació del llibre "Habitatge a l’àrea metropolitana de Barcelona. IMPSOL 2015-2024"
URL;VALUE=URI:https://arquitectes.cat/ca/content/presentaci%C3%B3-del-llibre-habitatge-l%E2%80%99%C3%A0rea-metropolitana-de-barcelona-impsol-2015-2024
DTSTAMP:20260419T230050Z
UID:69e542820b3d2
END:VEVENT
END:VCALENDAR