BEGIN:VCALENDAR
VERSION:2.0
PRODID:-//hacksw/handcal//NONSGML v1.0//EN
CALSCALE:GREGORIAN
BEGIN:VEVENT
LOCATION:Barcelona
DESCRIPTION:
DTSTART:20240902T193000Z
DTEND:20240902T210000Z
SUMMARY:Pantalla Pavelló | Architecture in the Family: Skin of Glass by Denise Zmekhol
URL;VALUE=URI:https://arquitectes.cat/ca/node/40399
DTSTAMP:20260423T001603Z
UID:69e948a306184
END:VEVENT
END:VCALENDAR