BEGIN:VCALENDAR
VERSION:2.0
PRODID:-//hacksw/handcal//NONSGML v1.0//EN
CALSCALE:GREGORIAN
BEGIN:VEVENT
LOCATION:Barcelona
DESCRIPTION:
DTSTART:20240715T170000Z
DTEND:20240715T170000Z
SUMMARY:Anna Codina i Toni Casamor\, amb Josep Lluís Blázquez i Marc Aureli Santos. Finestres d'Art i Còmic
URL;VALUE=URI:https://arquitectes.cat/ca/content/anna-codina-i-toni-casamor-amb-josep-llu%C3%ADs-bl%C3%A1zquez-i-marc-aureli-santos-finestres-dart-i
DTSTAMP:20260419T174523Z
UID:69e4f89360ef2
END:VEVENT
END:VCALENDAR