BEGIN:VCALENDAR
VERSION:2.0
PRODID:-//hacksw/handcal//NONSGML v1.0//EN
CALSCALE:GREGORIAN
BEGIN:VEVENT
LOCATION:Tarragona
DESCRIPTION:
DTSTART:20240705T180000Z
DTEND:20240705T180000Z
SUMMARY:Festa d'arqvitectes 2024 - COAC Tarragona
URL;VALUE=URI:https://arquitectes.cat/ca/content/festa-darqvitectes-2024-coac-tarragona
DTSTAMP:20260421T082404Z
UID:69e71804c3f46
END:VEVENT
END:VCALENDAR