BEGIN:VCALENDAR
VERSION:2.0
PRODID:-//hacksw/handcal//NONSGML v1.0//EN
CALSCALE:GREGORIAN
BEGIN:VEVENT
LOCATION:Tarragona
DESCRIPTION:
DTSTART:20240109T170000Z
DTEND:20240109T170000Z
SUMMARY:Presentació revista AT 25: 'Beyond humans / Més enllà dels humans'
URL;VALUE=URI:https://arquitectes.cat/ca/content/presentaci%C3%B3-revista-25-beyond-humans-m%C3%A9s-enll%C3%A0-dels-humans
DTSTAMP:20260419T223551Z
UID:69e53ca76e3fd
END:VEVENT
END:VCALENDAR