BEGIN:VCALENDAR
VERSION:2.0
PRODID:-//hacksw/handcal//NONSGML v1.0//EN
CALSCALE:GREGORIAN
BEGIN:VEVENT
LOCATION:Tarragona
DESCRIPTION:
DTSTART:20240615T080000Z
DTEND:20240615T080000Z
SUMMARY:Vermut d'obra V47 | Visita al Priorat
URL;VALUE=URI:https://arquitectes.cat/ca/content/vermut-dobra-v47-visita-al-priorat
DTSTAMP:20260419T203437Z
UID:69e5203dad360
END:VEVENT
END:VCALENDAR