BEGIN:VCALENDAR
VERSION:2.0
PRODID:-//hacksw/handcal//NONSGML v1.0//EN
CALSCALE:GREGORIAN
BEGIN:VEVENT
LOCATION:Barcelona
DESCRIPTION:
DTSTART:20240619T170000Z
DTEND:20240619T170000Z
SUMMARY:Inici del cicle 'Coderch a 3 bandes' amb 'Coderch – Jujol\, mestres i mestratges'
URL;VALUE=URI:https://arquitectes.cat/ca/content/inici-del-cicle-coderch-3-bandes-amb-coderch-%E2%80%93-jujol-mestres-i-mestratges
DTSTAMP:20260419T233232Z
UID:69e549f0cb08c
END:VEVENT
END:VCALENDAR