BEGIN:VCALENDAR
VERSION:2.0
PRODID:-//hacksw/handcal//NONSGML v1.0//EN
CALSCALE:GREGORIAN
BEGIN:VEVENT
LOCATION:Girona
DESCRIPTION:
DTSTART:20240610T100000Z
DTEND:20240610T100000Z
SUMMARY:Presentació de l'estudi 'Propostes per un model organitzatiu basat en la nova versió de la DEEE per la millora de l'eficiència energètica del parc residencial'
URL;VALUE=URI:https://arquitectes.cat/ca/content/presentaci%C3%B3-de-lestudi-propostes-un-model-organitzatiu-basat-en-la-nova-versi%C3%B3-de-la-deee-la
DTSTAMP:20260419T163137Z
UID:69e4e7492d5c1
END:VEVENT
END:VCALENDAR