BEGIN:VCALENDAR
VERSION:2.0
PRODID:-//hacksw/handcal//NONSGML v1.0//EN
CALSCALE:GREGORIAN
BEGIN:VEVENT
LOCATION:Barcelona
DESCRIPTION:
DTSTART:20240528T134500Z
DTEND:20240611T184500Z
SUMMARY:Construcció col·lectiva de la ciutat: Chamanculo C
URL;VALUE=URI:https://arquitectes.cat/ca/content/chamanculo-c-construcci%C3%B3n-colectiva-de-la-ciudad-0
DTSTAMP:20260420T053153Z
UID:69e59e294918d
END:VEVENT
END:VCALENDAR