BEGIN:VCALENDAR
VERSION:2.0
PRODID:-//hacksw/handcal//NONSGML v1.0//EN
CALSCALE:GREGORIAN
BEGIN:VEVENT
LOCATION:Barcelona
DESCRIPTION:
DTSTART:20240619T160000Z
DTEND:20240619T160000Z
SUMMARY:Ciència de les ciutats: imaginant futurs
URL;VALUE=URI:https://arquitectes.cat/ca/content/ci%C3%A8ncia-de-les-ciutats-imaginant-futurs
DTSTAMP:20260419T181737Z
UID:69e50021ae750
END:VEVENT
END:VCALENDAR