BEGIN:VCALENDAR
VERSION:2.0
PRODID:-//hacksw/handcal//NONSGML v1.0//EN
CALSCALE:GREGORIAN
BEGIN:VEVENT
LOCATION:Olot
DESCRIPTION:
DTSTART:20240525T160000Z
DTEND:20240525T160000Z
SUMMARY:Conferència 'De Pontevedra a Olot'
URL;VALUE=URI:https://arquitectes.cat/ca/content/confer%C3%A8ncia-de-pontevedra-olot
DTSTAMP:20260424T092738Z
UID:69eb1b6a37aeb
END:VEVENT
END:VCALENDAR