BEGIN:VCALENDAR
VERSION:2.0
PRODID:-//hacksw/handcal//NONSGML v1.0//EN
CALSCALE:GREGORIAN
BEGIN:VEVENT
LOCATION:Barcelona
DESCRIPTION:
DTSTART:20240619T170000Z
DTEND:20240619T170000Z
SUMMARY:Converses desenfadades: Joan Roig i Beatriz Borque
URL;VALUE=URI:https://arquitectes.cat/ca/content/converses-desenfadades-joan-roig-i-beatriz-borque
DTSTAMP:20260420T034500Z
UID:69e5851c0349d
END:VEVENT
END:VCALENDAR