BEGIN:VCALENDAR
VERSION:2.0
PRODID:-//hacksw/handcal//NONSGML v1.0//EN
CALSCALE:GREGORIAN
BEGIN:VEVENT
LOCATION:Barcelona
DESCRIPTION:
DTSTART:20240605T170000Z
DTEND:20240605T170000Z
SUMMARY:Converses desenfadades: Josep LLinàs i Roger Such
URL;VALUE=URI:https://arquitectes.cat/ca/content/converses-desenfadades-josep-llin%C3%A0s-i-roger-such
DTSTAMP:20260419T192318Z
UID:69e50f8605074
END:VEVENT
END:VCALENDAR