BEGIN:VCALENDAR
VERSION:2.0
PRODID:-//hacksw/handcal//NONSGML v1.0//EN
CALSCALE:GREGORIAN
BEGIN:VEVENT
LOCATION:Girona
DESCRIPTION:
DTSTART:20240511T100000Z
DTEND:20240519T143000Z
SUMMARY:Exposició 'Un jardí d'arquitectura'
URL;VALUE=URI:https://arquitectes.cat/ca/content/exposici%C3%B3-un-jard%C3%AD-darquitectura
DTSTAMP:20260419T150550Z
UID:69e4d32ee4464
END:VEVENT
END:VCALENDAR