BEGIN:VCALENDAR
VERSION:2.0
PRODID:-//hacksw/handcal//NONSGML v1.0//EN
CALSCALE:GREGORIAN
BEGIN:VEVENT
LOCATION:Tarragona
DESCRIPTION:
DTSTART:20240222T170000Z
DTEND:20240222T170000Z
SUMMARY:Avantguarda | [G] Debate group | Vivas Arquitectos + Josep Bunyesc + Maria Sisternas · 'sustainable development in public works'
URL;VALUE=URI:https://arquitectes.cat/ca/node/39969
DTSTAMP:20260420T034329Z
UID:69e584c124dec
END:VEVENT
END:VCALENDAR