BEGIN:VCALENDAR
VERSION:2.0
PRODID:-//hacksw/handcal//NONSGML v1.0//EN
CALSCALE:GREGORIAN
BEGIN:VEVENT
LOCATION:Manresa
DESCRIPTION:
DTSTART:20240502T160000Z
DTEND:20240502T160000Z
SUMMARY:Nous Accessos del Museu del Barroc: Conferència i posterior visita tècnica a l'actuació
URL;VALUE=URI:https://arquitectes.cat/ca/content/nous-accessos-del-museu-del-barroc-confer%C3%A8ncia-i-posterior-visita-t%C3%A8cnica-lactuaci%C3%B3
DTSTAMP:20260425T164948Z
UID:69ecd48c5eefe
END:VEVENT
END:VCALENDAR