BEGIN:VCALENDAR
VERSION:2.0
PRODID:-//hacksw/handcal//NONSGML v1.0//EN
CALSCALE:GREGORIAN
BEGIN:VEVENT
LOCATION:Barcelona
DESCRIPTION:
DTSTART:20240614T150000Z
DTEND:20240614T150000Z
SUMMARY:Visita al Pavelló de la República
URL;VALUE=URI:https://arquitectes.cat/ca/content/visita-al-pavell%C3%B3-de-la-rep%C3%BAblica-1
DTSTAMP:20260419T185251Z
UID:69e50863f3b7b
END:VEVENT
END:VCALENDAR