BEGIN:VCALENDAR
VERSION:2.0
PRODID:-//hacksw/handcal//NONSGML v1.0//EN
CALSCALE:GREGORIAN
BEGIN:VEVENT
LOCATION:Barcelona
DESCRIPTION:
DTSTART:20240517T150000Z
DTEND:20240517T150000Z
SUMMARY:Visita al Pabellón de la República
URL;VALUE=URI:https://arquitectes.cat/ca/node/39953
DTSTAMP:20260420T034639Z
UID:69e5857fef4b2
END:VEVENT
END:VCALENDAR