BEGIN:VCALENDAR
VERSION:2.0
PRODID:-//hacksw/handcal//NONSGML v1.0//EN
CALSCALE:GREGORIAN
BEGIN:VEVENT
LOCATION:Barcelona
DESCRIPTION:
DTSTART:20240420T100000Z
DTEND:20240420T100000Z
SUMMARY:Presentació: "Integrative Façades"
URL;VALUE=URI:https://arquitectes.cat/ca/content/presentaci%C3%B3-integrative-fa%C3%A7ades
DTSTAMP:20260426T014943Z
UID:69ed5317d53eb
END:VEVENT
END:VCALENDAR