BEGIN:VCALENDAR
VERSION:2.0
PRODID:-//hacksw/handcal//NONSGML v1.0//EN
CALSCALE:GREGORIAN
BEGIN:VEVENT
LOCATION:Barcelona
DESCRIPTION:
DTSTART:20240415T160000Z
DTEND:20240415T160000Z
SUMMARY:Conferència CulturTalks amb Pedro Livni
URL;VALUE=URI:https://arquitectes.cat/ca/content/confer%C3%A8ncia-culturtalks-amb-pedro-livni
DTSTAMP:20260419T203415Z
UID:69e520279c0a2
END:VEVENT
END:VCALENDAR