BEGIN:VCALENDAR
VERSION:2.0
PRODID:-//hacksw/handcal//NONSGML v1.0//EN
CALSCALE:GREGORIAN
BEGIN:VEVENT
LOCATION:Terrassa
DESCRIPTION:
DTSTART:20240322T094500Z
DTEND:20240531T180000Z
SUMMARY:Exposició: Fent camí. Eduard Aragonès
URL;VALUE=URI:https://arquitectes.cat/ca/content/exposici%C3%B3%E2%80%AFfent-cam%C3%AD-eduard-aragon%C3%A8s
DTSTAMP:20260419T195951Z
UID:69e518175ffba
END:VEVENT
END:VCALENDAR