BEGIN:VCALENDAR
VERSION:2.0
PRODID:-//hacksw/handcal//NONSGML v1.0//EN
CALSCALE:GREGORIAN
BEGIN:VEVENT
LOCATION:Barcelona
DESCRIPTION:
DTSTART:20240417T170000Z
DTEND:20240417T170000Z
SUMMARY:De la Copa Amèrica al Camp Nou\, actualitat dels principals projectes
URL;VALUE=URI:https://arquitectes.cat/ca/content/de-la-copa-am%C3%A8rica-al-camp-nou-actualitat-dels-principals-projectes
DTSTAMP:20260419T172728Z
UID:69e4f460f3b69
END:VEVENT
END:VCALENDAR