BEGIN:VCALENDAR
VERSION:2.0
PRODID:-//hacksw/handcal//NONSGML v1.0//EN
CALSCALE:GREGORIAN
BEGIN:VEVENT
LOCATION:Barcelona
DESCRIPTION:
DTSTART:20240523T134500Z
DTEND:20240825T134500Z
SUMMARY:Exposició: Ex-Designer Project Bar
URL;VALUE=URI:https://arquitectes.cat/ca/content/exposici%C3%B3-ex-designer-project-bar
DTSTAMP:20260421T064123Z
UID:69e6fff3e4e12
END:VEVENT
END:VCALENDAR