BEGIN:VCALENDAR
VERSION:2.0
PRODID:-//hacksw/handcal//NONSGML v1.0//EN
CALSCALE:GREGORIAN
BEGIN:VEVENT
LOCATION:Barcelona
DESCRIPTION:
DTSTART:20240314T141500Z
DTEND:20240525T141500Z
SUMMARY:'La Cronometradora'. Exposició d'Stella Rahola a l'Espai Isern Dalmau
URL;VALUE=URI:https://arquitectes.cat/ca/content/la-cronometradora-exposici%C3%B3-dstella-rahola-lespai-isern-dalmau
DTSTAMP:20260425T143015Z
UID:69ecb3d74cae1
END:VEVENT
END:VCALENDAR